BEGIN:VCALENDAR
VERSION:2.0
PRODID:-//Crawley and Horsham Hunt - ECPv6.15.15//NONSGML v1.0//EN
CALSCALE:GREGORIAN
METHOD:PUBLISH
X-WR-CALNAME:Crawley and Horsham Hunt
X-ORIGINAL-URL:https://www.crawleyandhorshamhunt.co.uk
X-WR-CALDESC:Events for Crawley and Horsham Hunt
REFRESH-INTERVAL;VALUE=DURATION:PT1H
X-Robots-Tag:noindex
X-PUBLISHED-TTL:PT1H
BEGIN:VTIMEZONE
TZID:Europe/London
BEGIN:DAYLIGHT
TZOFFSETFROM:+0000
TZOFFSETTO:+0100
TZNAME:BST
DTSTART:20150329T010000
END:DAYLIGHT
BEGIN:STANDARD
TZOFFSETFROM:+0100
TZOFFSETTO:+0000
TZNAME:GMT
DTSTART:20151025T010000
END:STANDARD
BEGIN:DAYLIGHT
TZOFFSETFROM:+0000
TZOFFSETTO:+0100
TZNAME:BST
DTSTART:20160327T010000
END:DAYLIGHT
BEGIN:STANDARD
TZOFFSETFROM:+0100
TZOFFSETTO:+0000
TZNAME:GMT
DTSTART:20161030T010000
END:STANDARD
BEGIN:DAYLIGHT
TZOFFSETFROM:+0000
TZOFFSETTO:+0100
TZNAME:BST
DTSTART:20170326T010000
END:DAYLIGHT
BEGIN:STANDARD
TZOFFSETFROM:+0100
TZOFFSETTO:+0000
TZNAME:GMT
DTSTART:20171029T010000
END:STANDARD
BEGIN:DAYLIGHT
TZOFFSETFROM:+0000
TZOFFSETTO:+0100
TZNAME:BST
DTSTART:20180325T010000
END:DAYLIGHT
BEGIN:STANDARD
TZOFFSETFROM:+0100
TZOFFSETTO:+0000
TZNAME:GMT
DTSTART:20181028T010000
END:STANDARD
BEGIN:DAYLIGHT
TZOFFSETFROM:+0000
TZOFFSETTO:+0100
TZNAME:BST
DTSTART:20190331T010000
END:DAYLIGHT
BEGIN:STANDARD
TZOFFSETFROM:+0100
TZOFFSETTO:+0000
TZNAME:GMT
DTSTART:20191027T010000
END:STANDARD
BEGIN:DAYLIGHT
TZOFFSETFROM:+0000
TZOFFSETTO:+0100
TZNAME:BST
DTSTART:20200329T010000
END:DAYLIGHT
BEGIN:STANDARD
TZOFFSETFROM:+0100
TZOFFSETTO:+0000
TZNAME:GMT
DTSTART:20201025T010000
END:STANDARD
BEGIN:DAYLIGHT
TZOFFSETFROM:+0000
TZOFFSETTO:+0100
TZNAME:BST
DTSTART:20210328T010000
END:DAYLIGHT
BEGIN:STANDARD
TZOFFSETFROM:+0100
TZOFFSETTO:+0000
TZNAME:GMT
DTSTART:20211031T010000
END:STANDARD
BEGIN:DAYLIGHT
TZOFFSETFROM:+0000
TZOFFSETTO:+0100
TZNAME:BST
DTSTART:20220327T010000
END:DAYLIGHT
BEGIN:STANDARD
TZOFFSETFROM:+0100
TZOFFSETTO:+0000
TZNAME:GMT
DTSTART:20221030T010000
END:STANDARD
BEGIN:DAYLIGHT
TZOFFSETFROM:+0000
TZOFFSETTO:+0100
TZNAME:BST
DTSTART:20230326T010000
END:DAYLIGHT
BEGIN:STANDARD
TZOFFSETFROM:+0100
TZOFFSETTO:+0000
TZNAME:GMT
DTSTART:20231029T010000
END:STANDARD
BEGIN:DAYLIGHT
TZOFFSETFROM:+0000
TZOFFSETTO:+0100
TZNAME:BST
DTSTART:20240331T010000
END:DAYLIGHT
BEGIN:STANDARD
TZOFFSETFROM:+0100
TZOFFSETTO:+0000
TZNAME:GMT
DTSTART:20241027T010000
END:STANDARD
BEGIN:DAYLIGHT
TZOFFSETFROM:+0000
TZOFFSETTO:+0100
TZNAME:BST
DTSTART:20250330T010000
END:DAYLIGHT
BEGIN:STANDARD
TZOFFSETFROM:+0100
TZOFFSETTO:+0000
TZNAME:GMT
DTSTART:20251026T010000
END:STANDARD
BEGIN:DAYLIGHT
TZOFFSETFROM:+0000
TZOFFSETTO:+0100
TZNAME:BST
DTSTART:20260329T010000
END:DAYLIGHT
BEGIN:STANDARD
TZOFFSETFROM:+0100
TZOFFSETTO:+0000
TZNAME:GMT
DTSTART:20261025T010000
END:STANDARD
BEGIN:DAYLIGHT
TZOFFSETFROM:+0000
TZOFFSETTO:+0100
TZNAME:BST
DTSTART:20270328T010000
END:DAYLIGHT
BEGIN:STANDARD
TZOFFSETFROM:+0100
TZOFFSETTO:+0000
TZNAME:GMT
DTSTART:20271031T010000
END:STANDARD
END:VTIMEZONE
BEGIN:VEVENT
DTSTART;TZID=Europe/London:20260325T080000
DTEND;TZID=Europe/London:20260325T170000
DTSTAMP:20260424T101015
CREATED:20260325T153520Z
LAST-MODIFIED:20260325T153520Z
UID:1627-1774425600-1774458000@www.crawleyandhorshamhunt.co.uk
SUMMARY:Crawley & Horsham Point to Point 2026
DESCRIPTION: 
URL:https://www.crawleyandhorshamhunt.co.uk/event/crawley-horsham-point-to-point-2026/
CATEGORIES:C&H Hunt Event,General Interest,Local Interest
ATTACH;FMTTYPE=image/jpeg:https://www.crawleyandhorshamhunt.co.uk/wp-content/uploads/2026/03/Crawley-Horham-P2P-Parham-143-of-219_ed.jpg
END:VEVENT
BEGIN:VEVENT
DTSTART;TZID=Europe/London:20190609T120000
DTEND;TZID=Europe/London:20190609T140000
DTSTAMP:20260424T101015
CREATED:20190531T100717Z
LAST-MODIFIED:20190531T100717Z
UID:1153-1560081600-1560088800@www.crawleyandhorshamhunt.co.uk
SUMMARY:Summer Fun Ride - Angmering Park Estate
DESCRIPTION:Angmering Park Estate Fun Ride and BBQ\nSunday 9th June at midday \nParking and meet at Lee Farm\, Angmering Park\, BN13 3XJ \n\nA fun ride in the rolling Sussex countryside\, with spectacular views and on a clear day you can views of the sea!\nThe ride will have two groups a faster ride and a more sedate ride. Optional jumping for both groups.\nReturning after an hour and half to a bbq and tea and coffee in the lorry park.\n\nDRESS: Casual \nAdults £20  Under 18’s £20  BBQ only tickets £5
URL:https://www.crawleyandhorshamhunt.co.uk/event/summer-fun-ride-angmering-park-estate/
LOCATION:Lee Farm\, Angmering Park\, BN13 3XJ\, Angmering Park\, BN13 3XJ
CATEGORIES:C&H Hunt Event,General Interest,Local Interest
ATTACH;FMTTYPE=image/jpeg:https://www.crawleyandhorshamhunt.co.uk/wp-content/uploads/2019/05/Downs.jpg
END:VEVENT
BEGIN:VEVENT
DTSTART;TZID=Europe/London:20190518T100000
DTEND;TZID=Europe/London:20190518T150000
DTSTAMP:20260424T101015
CREATED:20190405T130647Z
LAST-MODIFIED:20190405T130827Z
UID:1081-1558173600-1558191600@www.crawleyandhorshamhunt.co.uk
SUMMARY:Clay Shoot
DESCRIPTION:50 Bird sporting clay shoot
URL:https://www.crawleyandhorshamhunt.co.uk/event/clay-shoot-3/
LOCATION:Stone Hall\, Balcombe\, Haywards Heath\, West Sussex\, RH17 6QN\, United Kingdom
CATEGORIES:C&H Hunt Event,General Interest,Local Interest
ATTACH;FMTTYPE=image/jpeg:https://www.crawleyandhorshamhunt.co.uk/wp-content/uploads/2017/06/T2eC16hHJHoE9n3KhWOIBRfbVlGF-60_1.jpg
END:VEVENT
BEGIN:VEVENT
DTSTART;VALUE=DATE:20190316
DTEND;VALUE=DATE:20190317
DTSTAMP:20260424T101015
CREATED:20181015T171607Z
LAST-MODIFIED:20190304T125627Z
UID:1024-1552694400-1552780799@www.crawleyandhorshamhunt.co.uk
SUMMARY:C&H Point to Point 2019
DESCRIPTION:Don’t miss one of the most exciting dates in the C&H calendar! \nThe C&H Point to Point will be held on Saturday 16th March 2019 at our usual Parham course. \nPLUS – FUN DOG SHOW – 1PM \nFollowing hot on the heels of Crufts comes the Crawley & Horsham P2P Fun Dog Show.\nWe welcome our new main judge Margaret Bull who has many years experience of judging\, showing and breeding along with a huge love of dogs. She will be joining forces with our lovely local guest judge Tim Wonnacott who we are thrilled to be welcoming back for a second year. \nDownload the schedule here: \nDogShow_Schedule
URL:https://www.crawleyandhorshamhunt.co.uk/event/ch-point-to-point-2019/
LOCATION:Parham PTP Course\, Storrington\, West Sussex
CATEGORIES:C&H Hunt Event,General Interest,Local Interest
ATTACH;FMTTYPE=image/jpeg:https://www.crawleyandhorshamhunt.co.uk/wp-content/uploads/2016/09/Gunn4.jpg
END:VEVENT
BEGIN:VEVENT
DTSTART;TZID=Europe/London:20180901T094500
DTEND;TZID=Europe/London:20180901T170000
DTSTAMP:20260424T101015
CREATED:20180320T123007Z
LAST-MODIFIED:20180814T215536Z
UID:859-1535795100-1535821200@www.crawleyandhorshamhunt.co.uk
SUMMARY:Terrier\, Family Dog & Pony Show
DESCRIPTION:Download full schedule HERE
URL:https://www.crawleyandhorshamhunt.co.uk/event/terrier-family-dog-pony-show/
LOCATION:C&H Kennels\, Kennel Lane\, West Grinstead\, United Kingdom
CATEGORIES:C&H Hunt Event,General Interest,Local Interest
ATTACH;FMTTYPE=image/jpeg:https://www.crawleyandhorshamhunt.co.uk/wp-content/uploads/2017/06/download.jpg
END:VEVENT
BEGIN:VEVENT
DTSTART;TZID=Europe/London:20180607T100000
DTEND;TZID=Europe/London:20180609T170000
DTSTAMP:20260424T101015
CREATED:20180320T122757Z
LAST-MODIFIED:20180320T122817Z
UID:854-1528365600-1528563600@www.crawleyandhorshamhunt.co.uk
SUMMARY:South of England Hound Show
DESCRIPTION:The Crawley & Horsham hounds will be showing at the South of England Hound Show. \nFoxhounds are judged on Thursday 7th June\, beagles on Friday 8th June and the cavalcade will be on Saturday 9th June.
URL:https://www.crawleyandhorshamhunt.co.uk/event/south-of-england-hound-show/
LOCATION:South of England Showground\, Ardingly\, RH17 6TH
CATEGORIES:C&H Hunt Event,General Interest,Local Interest
ATTACH;FMTTYPE=image/jpeg:https://www.crawleyandhorshamhunt.co.uk/wp-content/uploads/2018/03/2017-cavalcade-fun.jpg
END:VEVENT
BEGIN:VEVENT
DTSTART;TZID=Europe/London:20180422T113000
DTEND;TZID=Europe/London:20180422T150000
DTSTAMP:20260424T101015
CREATED:20180409T215743Z
LAST-MODIFIED:20180409T221250Z
UID:866-1524396600-1524409200@www.crawleyandhorshamhunt.co.uk
SUMMARY:SEH Bunny Hunt
DESCRIPTION:Southdown & Eridge Hunt \nAnnual Bunny Hunt on Sunday 22nd April \nat Brickyards Farmhouse \nGREEN LANE\, RINGMER\, BN8 5AD \n  \nPARKING: PLEASE IN ADJACENT HARVEYS LANE \n  \nby kind invitation of Tim and Shirley Winney.\nMeet with refreshments at 11.30 prior to a 12 noon start.\nRefreshments\, bar and barbecue on return.\nParking-  please note the field will still be too wet so it will be Lane parking.
URL:https://www.crawleyandhorshamhunt.co.uk/event/seh-bunny-hunt/
CATEGORIES:General Interest,Local Interest
ATTACH;FMTTYPE=image/jpeg:https://www.crawleyandhorshamhunt.co.uk/wp-content/uploads/2018/03/dogs.jpg
END:VEVENT
BEGIN:VEVENT
DTSTART;TZID=Europe/London:20180324T070000
DTEND;TZID=Europe/London:20180324T090000
DTSTAMP:20260424T101015
CREATED:20180320T121934Z
LAST-MODIFIED:20180320T124147Z
UID:850-1521874800-1521882000@www.crawleyandhorshamhunt.co.uk
SUMMARY:Knepp Deer Count
DESCRIPTION:KNEPP DEER COUNT \nYOUR HELP IS REQUIRED FOR A RED\, FALLOW AND ROE DEER COUNT . \n\n7 am on Saturday 24th March (for approximately 2 hours) on the southern block of the Knepp Castle estate.\nMeet at New Barn Farm campsite.\nBreakfast on bacon butties and coffee.\n\nTo confirm please contact Louise Burrell lib147@icloud.com
URL:https://www.crawleyandhorshamhunt.co.uk/event/knepp-deer-count/
CATEGORIES:General Interest,Local Interest
ATTACH;FMTTYPE=image/jpeg:https://www.crawleyandhorshamhunt.co.uk/wp-content/uploads/2018/03/IMG_6326-2lr.jpg
ORGANIZER;CN="Louise Burrell":MAILTO:lib147@icloud.com
END:VEVENT
BEGIN:VEVENT
DTSTART;TZID=Europe/London:20171215T100000
DTEND;TZID=Europe/London:20171215T160000
DTSTAMP:20260424T101015
CREATED:20171213T111753Z
LAST-MODIFIED:20171213T112411Z
UID:758-1513332000-1513353600@www.crawleyandhorshamhunt.co.uk
SUMMARY:Vintage Tack Room - Christmas Open Shop
DESCRIPTION:Christmas ‘Open Shop’\nFriday 15th & Saturday 16th December\n10am-4pm\nand open by appointment all the way through the holiday season.\nWestland Cottage\, Horsebridge Hill\, Fittleworth Road\, Wisborough Green\, West Sussex RH14 0HD\nTELEPHONE: 01403 700953 \nEMAIL: info@vintagetackroom.com
URL:https://www.crawleyandhorshamhunt.co.uk/event/vintage-tack-room-christmas-open-day/
LOCATION:Vintage Tack Room\, Westland Cottage\, Horsebridge Hill\, Fittleworth Road\, Wisborough Green\, West Sussex\, RH14 0HD\, United Kingdom
CATEGORIES:General Interest,Local Interest
ATTACH;FMTTYPE=image/png:https://www.crawleyandhorshamhunt.co.uk/wp-content/uploads/2017/12/VTR.png
END:VEVENT
BEGIN:VEVENT
DTSTART;VALUE=DATE:20161111
DTEND;VALUE=DATE:20161112
DTSTAMP:20260424T101015
CREATED:20161020T190356Z
LAST-MODIFIED:20161020T190356Z
UID:394-1478822400-1478822400@www.crawleyandhorshamhunt.co.uk
SUMMARY:Countryside Day
DESCRIPTION:The Countryside Alliance Countryside Day at Cheltenham.
URL:https://www.crawleyandhorshamhunt.co.uk/event/countryside-day/
LOCATION:Cheltenham Racecourse\, Cheltenham\, Glos
CATEGORIES:General Interest
END:VEVENT
END:VCALENDAR