BEGIN:VCALENDAR
VERSION:2.0
PRODID:-//Crawley and Horsham Hunt - ECPv6.15.15//NONSGML v1.0//EN
CALSCALE:GREGORIAN
METHOD:PUBLISH
X-WR-CALNAME:Crawley and Horsham Hunt
X-ORIGINAL-URL:https://www.crawleyandhorshamhunt.co.uk
X-WR-CALDESC:Events for Crawley and Horsham Hunt
REFRESH-INTERVAL;VALUE=DURATION:PT1H
X-Robots-Tag:noindex
X-PUBLISHED-TTL:PT1H
BEGIN:VTIMEZONE
TZID:Europe/London
BEGIN:DAYLIGHT
TZOFFSETFROM:+0000
TZOFFSETTO:+0100
TZNAME:BST
DTSTART:20150329T010000
END:DAYLIGHT
BEGIN:STANDARD
TZOFFSETFROM:+0100
TZOFFSETTO:+0000
TZNAME:GMT
DTSTART:20151025T010000
END:STANDARD
BEGIN:DAYLIGHT
TZOFFSETFROM:+0000
TZOFFSETTO:+0100
TZNAME:BST
DTSTART:20160327T010000
END:DAYLIGHT
BEGIN:STANDARD
TZOFFSETFROM:+0100
TZOFFSETTO:+0000
TZNAME:GMT
DTSTART:20161030T010000
END:STANDARD
BEGIN:DAYLIGHT
TZOFFSETFROM:+0000
TZOFFSETTO:+0100
TZNAME:BST
DTSTART:20170326T010000
END:DAYLIGHT
BEGIN:STANDARD
TZOFFSETFROM:+0100
TZOFFSETTO:+0000
TZNAME:GMT
DTSTART:20171029T010000
END:STANDARD
END:VTIMEZONE
BEGIN:VEVENT
DTSTART;TZID=Europe/London:20161218T183000
DTEND;TZID=Europe/London:20161218T210000
DTSTAMP:20260419T234444
CREATED:20161114T124756Z
LAST-MODIFIED:20161129T210954Z
UID:459-1482085800-1482094800@www.crawleyandhorshamhunt.co.uk
SUMMARY:Christmas Carol Evening
DESCRIPTION:This fun evening will be held on Sunday 18th December at Bankfield Grange\, Cowfold. \n \n 
URL:https://www.crawleyandhorshamhunt.co.uk/event/christmas-carol-evening/
LOCATION:Bankfield Grange\, Cowfold
CATEGORIES:C&H Hunt Event
ATTACH;FMTTYPE=image/jpeg:https://www.crawleyandhorshamhunt.co.uk/wp-content/uploads/2016/11/Fox-Playing-Piano.jpg
END:VEVENT
BEGIN:VEVENT
DTSTART;VALUE=DATE:20161111
DTEND;VALUE=DATE:20161112
DTSTAMP:20260419T234444
CREATED:20161020T190356Z
LAST-MODIFIED:20161020T190356Z
UID:394-1478822400-1478822400@www.crawleyandhorshamhunt.co.uk
SUMMARY:Countryside Day
DESCRIPTION:The Countryside Alliance Countryside Day at Cheltenham.
URL:https://www.crawleyandhorshamhunt.co.uk/event/countryside-day/
LOCATION:Cheltenham Racecourse\, Cheltenham\, Glos
CATEGORIES:General Interest
END:VEVENT
BEGIN:VEVENT
DTSTART;TZID=Europe/London:20161105T104500
DTEND;TZID=Europe/London:20161105T104500
DTSTAMP:20260419T234444
CREATED:20161018T124303Z
LAST-MODIFIED:20161025T154804Z
UID:291-1478342700-1478342700@www.crawleyandhorshamhunt.co.uk
SUMMARY:Opening Meet
DESCRIPTION:10.45am\, Knepp Castle\, West Grinstead \n 
URL:https://www.crawleyandhorshamhunt.co.uk/event/opening-meet/
LOCATION:West Sussex
CATEGORIES:C&H Hunt Event
ATTACH;FMTTYPE=image/jpeg:https://www.crawleyandhorshamhunt.co.uk/wp-content/uploads/2016/10/knepp.jpg
END:VEVENT
BEGIN:VEVENT
DTSTART;TZID=Europe/London:20161104T183000
DTEND;TZID=Europe/London:20161104T203000
DTSTAMP:20260419T234444
CREATED:20161018T124403Z
LAST-MODIFIED:20161024T134346Z
UID:293-1478284200-1478291400@www.crawleyandhorshamhunt.co.uk
SUMMARY:Opening Meet Drinks Party
DESCRIPTION:Our Pre-Opening Meet Party to steady the nerves!
URL:https://www.crawleyandhorshamhunt.co.uk/event/opening-meet-drinks-party/
LOCATION:West Sussex
CATEGORIES:C&H Hunt Event
ATTACH;FMTTYPE=image/jpeg:https://www.crawleyandhorshamhunt.co.uk/wp-content/uploads/2016/10/wine.jpg
END:VEVENT
BEGIN:VEVENT
DTSTART;TZID=Europe/London:20160917T080000
DTEND;TZID=Europe/London:20160917T170000
DTSTAMP:20260419T234444
CREATED:20161018T124458Z
LAST-MODIFIED:20161018T124738Z
UID:295-1474099200-1474131600@www.crawleyandhorshamhunt.co.uk
SUMMARY:West Grinstead Ploughing Match
DESCRIPTION:
URL:https://www.crawleyandhorshamhunt.co.uk/event/west-grinstead-ploughing-match/
LOCATION:Aglands Farm
CATEGORIES:Local Interest
END:VEVENT
BEGIN:VEVENT
DTSTART;VALUE=DATE:20160911
DTEND;VALUE=DATE:20160912
DTSTAMP:20260419T234444
CREATED:20161018T123452Z
LAST-MODIFIED:20161018T123452Z
UID:276-1473552000-1473638399@www.crawleyandhorshamhunt.co.uk
SUMMARY:Hunter Trials
DESCRIPTION:The Crawley & Horsham Hunter Trials\, Rackham
URL:https://www.crawleyandhorshamhunt.co.uk/event/hunter-trials/
LOCATION:Rackham
END:VEVENT
END:VCALENDAR